BEGIN:VCALENDAR
VERSION:2.0
PRODID:-//wp-events-plugin.com//7.2.3.1//EN
TZID:Europe/Madrid
X-WR-TIMEZONE:Europe/Madrid
BEGIN:VEVENT
UID:213@longrock.es
DTSTART;TZID=Europe/Madrid:20260430T203000
DTEND;TZID=Europe/Madrid:20260430T230000
DTSTAMP:20260421T100600Z
URL:https://www.longrock.es/sevilla/evento/vieja-tortuga-tributo-a-vetusta
 -morla-rojim/
SUMMARY:Vieja Tortuga (tributo a Vetusta Morla) + Rojim
DESCRIPTION:\n\n.em.pixelbones a .button-link{ border-radius: 10px !importa
 nt\; padding:15px 20px !important\; background-color: #fe0000 !important\;
  border: 0px !important\; background-image: unset !important\;}.em.pixelbo
 nes a .button-link:hover{ background-color: #fff!important\; color: #000 !
 important\;}\n\n\n\n\nEnlace a ticket\n\n\n\nPrecio\n8 €+G.G. anticipada
 /10 € taquilla\n\n\nvieja tortuga + rojim\n\n¿Eres fan de Vetusta Morla
 ? ¿Te emocionas con cada acorde y cada letra de sus canciones? ¡No busqu
 es más! Te invitamos a una experiencia musical única con "Vieja Tortuga"
 \, el único tributo a la banda madrileña.\n\nRevive los éxitos más emb
 lemáticos de una de las bandas más queridas de la escena indie española
 . Desde "Copenhague" hasta "La Deriva"\, el show de la banda está diseña
 do para transportarte al corazón de sus conciertos\, capturando la esenci
 a y la energía que han convertido a Vetusta Morla en una leyenda viva.\n\
 nVieja Tortuga interpreta cada canción con una precisión que te hará se
 ntir como si estuvieras viendo a la banda original. Su vocalista encarna l
 a pasión y el timbre que hacen únicos a los temas de la banda original.\
 n\nY lo hará en Long Rock Sevilla junto a la banda Rojim\, banda de indie
  rock/alternativo que emerge con su más reciente obra conceptual: "El Fé
 nix de Nata". Un disco que narra la metamorfosis sonora y lírica del grup
 o\, reinventándose desde sus cenizas creativas.\n\n"El Fénix de Nata" re
 presenta el renacimiento musical de Rojim\, canciones que exploran la resi
 liencia\, la transformación y la belleza que surge del caos. Rojim ofrece
  una noche catártica donde cada canción es una pluma del fénix reconstr
 uyéndose en tiempo real.\n\n*Apertura: 20:00 h\n*Inicio: 20:30 h\n*Los me
 nores podrán asistir acompañados de un adulto. \n
ATTACH;FMTTYPE=image/jpeg:https://www.longrock.es/sevilla/wp-content/uploa
 ds/2026/04/viejatortuga_30_abril.jpeg
LOCATION:LongRock Sevilla\, C/ Blanco White\, s/n\, Sevilla\, 41018\, Espa
 ña
X-APPLE-STRUCTURED-LOCATION;VALUE=URI;X-ADDRESS=C/ Blanco White\, s/n\, Sev
 illa\, 41018\, España;X-APPLE-RADIUS=100;X-TITLE=LongRock Sevilla:geo:0,0
END:VEVENT
BEGIN:VTIMEZONE
TZID:Europe/Madrid
X-LIC-LOCATION:Europe/Madrid
BEGIN:DAYLIGHT
DTSTART:20260329T030000
TZOFFSETFROM:+0100
TZOFFSETTO:+0200
TZNAME:CEST
END:DAYLIGHT
END:VTIMEZONE
END:VCALENDAR