BEGIN:VCALENDAR
VERSION:2.0
PRODID:-//wp-events-plugin.com//7.2.3.1//EN
TZID:Europe/Madrid
X-WR-TIMEZONE:Europe/Madrid
BEGIN:VEVENT
UID:195@longrock.es
DTSTART;TZID=Europe/Madrid:20260326T223000
DTEND;TZID=Europe/Madrid:20260326T223000
DTSTAMP:20260323T130032Z
URL:https://www.longrock.es/sevilla/evento/vargas-blues-band-2/
SUMMARY:Vargas Blues Band (APLAZADO)
DESCRIPTION:\n\n.em.pixelbones a .button-link{ border-radius: 10px !importa
 nt\; padding:15px 20px !important\; background-color: #fe0000 !important\;
  border: 0px !important\; background-image: unset !important\;}.em.pixelbo
 nes a .button-link:hover{ background-color: #fff!important\; color: #000 !
 important\;}\n\n\n\n\nPrecio\n15€ + G.G. anticipada/20 € taquilla\n\n\
 nvargas blues band\n\nCONCIERTO APLAZADO AL VIERNES 11 DE SEPTIEMBRE\n\n*A
 pertura de puertas: 22:00 h.\n*Inicio: 22:30 h.\n*Los menores podrán asis
 tir acompañados de un adulto.  \n
ATTACH;FMTTYPE=image/jpeg:https://www.longrock.es/sevilla/wp-content/uploa
 ds/2026/03/vargas_26_marzo.jpg
LOCATION:LongRock Sevilla\, C/ Blanco White\, s/n\, Sevilla\, 41018\, Espa
 ña
X-APPLE-STRUCTURED-LOCATION;VALUE=URI;X-ADDRESS=C/ Blanco White\, s/n\, Sev
 illa\, 41018\, España;X-APPLE-RADIUS=100;X-TITLE=LongRock Sevilla:geo:0,0
END:VEVENT
BEGIN:VTIMEZONE
TZID:Europe/Madrid
X-LIC-LOCATION:Europe/Madrid
BEGIN:STANDARD
DTSTART:20251026T020000
TZOFFSETFROM:+0200
TZOFFSETTO:+0100
TZNAME:CET
END:STANDARD
END:VTIMEZONE
END:VCALENDAR