BEGIN:VCALENDAR
VERSION:2.0
PRODID:-//wp-events-plugin.com//7.2.3.1//EN
TZID:Europe/Madrid
X-WR-TIMEZONE:Europe/Madrid
BEGIN:VEVENT
UID:81@longrock.es
DTSTART;TZID=Europe/Madrid:20260101T010000
DTEND;TZID=Europe/Madrid:20260101T070000
DTSTAMP:20251226T185754Z
URL:https://www.longrock.es/sevilla/evento/nochevieja-en-long-rock/
SUMMARY:Nochevieja en Long Rock (entradas agotadas)
DESCRIPTION:\n\n.em.pixelbones a .button-link{ border-radius: 10px !importa
 nt\; padding:15px 20px !important\; background-color: #fe0000 !important\;
  border: 0px !important\; background-image: unset !important\;}.em.pixelbo
 nes a .button-link:hover{ background-color: #fff!important\; color: #000 !
 important\;}\n\n\n\n\nEnlace a ticket\n\n\n\nPrecio\n37€ + G.G. anticipa
 da\n\n\nPor favor\, lea las condiciones antes de comprar su entrada.\n\nLo
 ngrocker\, se acerca el final del año y nos encantará catapultarte hacia
  2026 vía FIESTÓN DE NOCHEVIEJA que contará con los siguientes ingredie
 ntes:\n\n- CATERING rico rico para reponer las fuerzas que\, seguramente\,
  necesitarás..\n\n- BOLSA DE COTILLÓN. Y es que hacer el gamba nunca est
 á de más.\n\n- SERVICIO DE GUARDARROPA. No te preocupes por tu ropa de a
 brigo\, nosotros te la guardamos. Luce tu modelazo con total tranquilidad.
 \n\n- DOS CONSUMICIONES\, que puedes canjear por dos combinados o cuatro c
 ervezas/refrescos.\n\n- ¡LONG ROCK BAND EN CONCIERTO! La banda del moment
 o\, creada por y para Long Rock\, no le dará tregua a tus caderas.\n\n\n\
 nCONDICIONES\n\n- Esta entrada es válida para UNA persona e incluye dos c
 onsumiciones.\n\n- La consumiciones de esta entrada NO cubrirán combinado
 s con bebidas energéticas\, licores sin alcohol y/o reservas\, por lo que
  habrá que abonar la diferencia.\n\n- La cerveza incluida con la entrada 
 no tendrá un valor superior a 4 euros.\n\n- Esta entrada incluye el servi
 cio de ropero\, en el que SÓLO se guardarán abrigos y bufandas. En ning
 ún caso la empresa se hará cargo de bolsos\, bolsas con zapatos de repue
 sto\, paraguas u otros objetos personales. \n\n- La empresa no se responsa
 biliza de las prendas que no sean depositadas en el guardarropa.\n\n- A lo
  largo de la noche se servirán bandejas de catering.\n\n- Está terminant
 emente PROHIBIDO el consumo de sustancias estupefacientes\, así como de b
 ebidas que no hayan sido adquiridas en el local. La vulneración de esta n
 orma conllevará la inmediata expulsión de la sala. \n\n- Las entradas an
 ticipadas vendidas para este evento no tendrán derecho a devolución desp
 ués del 26 de diciembre de 2025.\n\n- Una vez validada digitalmente la en
 trada en puerta\, ésta queda inmediatamente anulada para un nuevo uso. Po
 r favor\, no intente entrar con la entrada de otra persona. Nos vamos a da
 r cuenta. Ahórrenos el mal rato y la pérdida de tiempo. Gracias.\n\n- No
  está permitida la entrada a menores de edad.\n\n- Estas consumiciones so
 n válidas para combinados con un precio de 8 euros y sólo durante la fie
 sta de Nochevieja. En caso de solicitar una bebida premium\, se deberá ab
 onar la diferencia.\n\n- La empresa agradece el comportamiento cívico de 
 todos los asistentes.\n
ATTACH;FMTTYPE=image/jpeg:https://www.longrock.es/sevilla/wp-content/uploa
 ds/2025/12/nochevieja_agotadas.jpg
LOCATION:LongRock Sevilla\, C/ Blanco White\, s/n\, Sevilla\, 41018\, Espa
 ña
X-APPLE-STRUCTURED-LOCATION;VALUE=URI;X-ADDRESS=C/ Blanco White\, s/n\, Sev
 illa\, 41018\, España;X-APPLE-RADIUS=100;X-TITLE=LongRock Sevilla:geo:0,0
END:VEVENT
BEGIN:VTIMEZONE
TZID:Europe/Madrid
X-LIC-LOCATION:Europe/Madrid
BEGIN:STANDARD
DTSTART:20251026T020000
TZOFFSETFROM:+0200
TZOFFSETTO:+0100
TZNAME:CET
END:STANDARD
END:VTIMEZONE
END:VCALENDAR