BEGIN:VCALENDAR
VERSION:2.0
PRODID:-//wp-events-plugin.com//7.2.3.1//EN
TZID:Europe/Madrid
X-WR-TIMEZONE:Europe/Madrid
BEGIN:VEVENT
UID:194@longrock.es
DTSTART;TZID=Europe/Madrid:20260321T235900
DTEND;TZID=Europe/Madrid:20260321T235900
DTSTAMP:20260319T105715Z
URL:https://www.longrock.es/sevilla/evento/long-rock-band-6/
SUMMARY:Long Rock Band
DESCRIPTION:\n\n.em.pixelbones a .button-link{ border-radius: 10px !importa
 nt\; padding:15px 20px !important\; background-color: #fe0000 !important\;
  border: 0px !important\; background-image: unset !important\;}.em.pixelbo
 nes a .button-link:hover{ background-color: #fff!important\; color: #000 !
 important\;}\n\n\n\nPrecio\n5€\n\n\nLong Rock Band\n\nLa única banda he
 cha por y para el Long regresa\, con los hermanos Baeza al timón\, un sá
 bado más al escenario de Long Rock. ¡Nos te lo pierdas!\n\n*La hora de c
 omienzo será aproximadamente a las 00:15 h.\n\n*No está permitida la ent
 rada a menores de edad. \n\n*La entrada se compra en taquilla e incluye un
 a consumición de Alhambra Especial o refresco.\n \n
ATTACH;FMTTYPE=image/jpeg:https://www.longrock.es/sevilla/wp-content/uploa
 ds/2026/03/longrockband_21_marzo_noche.jpg
LOCATION:LongRock Sevilla\, C/ Blanco White\, s/n\, Sevilla\, 41018\, Espa
 ña
X-APPLE-STRUCTURED-LOCATION;VALUE=URI;X-ADDRESS=C/ Blanco White\, s/n\, Sev
 illa\, 41018\, España;X-APPLE-RADIUS=100;X-TITLE=LongRock Sevilla:geo:0,0
END:VEVENT
BEGIN:VTIMEZONE
TZID:Europe/Madrid
X-LIC-LOCATION:Europe/Madrid
BEGIN:STANDARD
DTSTART:20251026T020000
TZOFFSETFROM:+0200
TZOFFSETTO:+0100
TZNAME:CET
END:STANDARD
END:VTIMEZONE
END:VCALENDAR