BEGIN:VCALENDAR
VERSION:2.0
PRODID:-//wp-events-plugin.com//7.2.3.1//EN
TZID:Europe/Madrid
X-WR-TIMEZONE:Europe/Madrid
BEGIN:VEVENT
UID:182@longrock.es
DTSTART;TZID=Europe/Madrid:20260319T223000
DTEND;TZID=Europe/Madrid:20260319T223000
DTSTAMP:20260219T123354Z
URL:https://www.longrock.es/sevilla/evento/la-roca/
SUMMARY:La Roca
DESCRIPTION:\n\n.em.pixelbones a .button-link{ border-radius: 10px !importa
 nt\; padding:15px 20px !important\; background-color: #fe0000 !important\;
  border: 0px !important\; background-image: unset !important\;}.em.pixelbo
 nes a .button-link:hover{ background-color: #fff!important\; color: #000 !
 important\;}\n\n\n\n\nEnlace a ticket\n\n\n\nPrecio\n6 € anticipada/8 
 € taquilla\n\n\nla roca\n\nLa Roca\, banda de versiones internacionales 
 de rock ´n´roll\, hará un repaso por los grandes clásicos del rock de 
 todos los tiempos. Será en una de las mecas que existen en Sevilla donde 
 podrás disfrutar desde Eric Clapton hasta Deep Purple pasando por Led Zep
 pelin y la Credence Clearwater Revival\, entre otros. \n\n*Apertura: 22:00
  h\n*Inicio: 22:30 h\n*Los menores podrán asistir acompañados de un adul
 to. \n
ATTACH;FMTTYPE=image/jpeg:https://www.longrock.es/sevilla/wp-content/uploa
 ds/2026/02/laroca_19_marzo-3.jpg
LOCATION:LongRock Sevilla\, C/ Blanco White\, s/n\, Sevilla\, 41018\, Espa
 ña
X-APPLE-STRUCTURED-LOCATION;VALUE=URI;X-ADDRESS=C/ Blanco White\, s/n\, Sev
 illa\, 41018\, España;X-APPLE-RADIUS=100;X-TITLE=LongRock Sevilla:geo:0,0
END:VEVENT
BEGIN:VTIMEZONE
TZID:Europe/Madrid
X-LIC-LOCATION:Europe/Madrid
BEGIN:STANDARD
DTSTART:20251026T020000
TZOFFSETFROM:+0200
TZOFFSETTO:+0100
TZNAME:CET
END:STANDARD
END:VTIMEZONE
END:VCALENDAR