BEGIN:VCALENDAR
VERSION:2.0
PRODID:-//wp-events-plugin.com//7.2.3.1//EN
TZID:Europe/Madrid
X-WR-TIMEZONE:Europe/Madrid
BEGIN:VEVENT
UID:27@longrock.es
DTSTART;TZID=Europe/Madrid:20251106T223000
DTEND;TZID=Europe/Madrid:20251106T223000
DTSTAMP:20251014T113546Z
URL:https://www.longrock.es/sevilla/evento/iberia-sumergida-heroes-del-sil
 encio/
SUMMARY:Iberia Sumergida con Copi Corellano (Tributo a Héroes del Silencio
 )
DESCRIPTION:\n\n\n.em.pixelbones a .button-link{ border-radius: 10px !impor
 tant\; padding:15px 20px !important\; background-color: #fe0000 !important
 \; border: 0px !important\; background-image: unset !important\;}.em.pixel
 bones a .button-link:hover{ background-color: #fff!important\; color: #000
  !important\;}\n\n\n\n\nEnlace a ticket\n\n\n\nPrecio\n17 € anticipada/2
 0 € taquilla\nIberia Sumergida y el maestro Copi Corellano\, teclista de
 l tercer disco de estudio de Héroes del Silencio " El espíritu del vino"
  y de la banda de Enrique Bunbury "El Huracán Ambulante"\, tienen el plac
 er de anunciar una de sus giras más especiales\, en la que ofrecerán al 
 público las interpretaciones de los grandes éxitos de Héroes del Silenc
 io con el acompañamiento de sonidos espaciales hechos desde el corazón p
 or Copi Corellano con sus sintetizadores y hammonds recién adquiridos par
 a este último tour con Enrique Bunbury.\nUna buena manera de explicar est
 a locura es imaginarse las guitarras de Valdivia sobre las atmósferas de 
 Pink Floyd o The Cure sin perder el power y la energía que tienen los tem
 as de Héroes\, pero con la oscuridad y el misterio que las atmósferas y 
 la tecnología pueden ofrecernos.\n¿Estás preparado para viajar al espac
 io exterior?\n\nLos menores deberán ir acompañados de un adulto.\n\nAper
 tura de puertas: 22:00 h
ATTACH;FMTTYPE=image/jpeg:https://www.longrock.es/sevilla/wp-content/uploa
 ds/2025/10/iberia_sumergida_06_noviembre.jpg
LOCATION:LongRock Sevilla\, C/ Blanco White\, s/n\, Sevilla\, 41018\, Espa
 ña
X-APPLE-STRUCTURED-LOCATION;VALUE=URI;X-ADDRESS=C/ Blanco White\, s/n\, Sev
 illa\, 41018\, España;X-APPLE-RADIUS=100;X-TITLE=LongRock Sevilla:geo:0,0
END:VEVENT
BEGIN:VTIMEZONE
TZID:Europe/Madrid
X-LIC-LOCATION:Europe/Madrid
BEGIN:STANDARD
DTSTART:20251026T020000
TZOFFSETFROM:+0200
TZOFFSETTO:+0100
TZNAME:CET
END:STANDARD
END:VTIMEZONE
END:VCALENDAR