BEGIN:VCALENDAR
VERSION:2.0
PRODID:-//wp-events-plugin.com//7.2.3.1//EN
TZID:Europe/Madrid
X-WR-TIMEZONE:Europe/Madrid
BEGIN:VEVENT
UID:169@longrock.es
DTSTART;TZID=Europe/Madrid:20260221T235900
DTEND;TZID=Europe/Madrid:20260221T235900
DTSTAMP:20260219T120601Z
URL:https://www.longrock.es/sevilla/evento/autoreverse-4/
SUMMARY:Autoreverse
DESCRIPTION:\n\n.em.pixelbones a .button-link{ border-radius: 10px !importa
 nt\; padding:15px 20px !important\; background-color: #fe0000 !important\;
  border: 0px !important\; background-image: unset !important\;}.em.pixelbo
 nes a .button-link:hover{ background-color: #fff!important\; color: #000 !
 important\;}\n\n\n\nPrecio\n5€\n\n\nAutoreverse\n\nVersiones de los gran
 des éxitos de la música nacional e internacional desde los 80 hasta ahor
 a.\n\n*La hora de comienzo será aproximadamente a las 00:15 h.\n\n*No est
 á permitida la entrada a menores de edad. \n\n*La entrada se compra en ta
 quilla e incluye una consumición de Alhambra Especial o refresco.\n \n
ATTACH;FMTTYPE=image/jpeg:https://www.longrock.es/sevilla/wp-content/uploa
 ds/2026/02/autorreverse_21_febrero_noche-3.jpg
LOCATION:LongRock Sevilla\, C/ Blanco White\, s/n\, Sevilla\, 41018\, Espa
 ña
X-APPLE-STRUCTURED-LOCATION;VALUE=URI;X-ADDRESS=C/ Blanco White\, s/n\, Sev
 illa\, 41018\, España;X-APPLE-RADIUS=100;X-TITLE=LongRock Sevilla:geo:0,0
END:VEVENT
BEGIN:VTIMEZONE
TZID:Europe/Madrid
X-LIC-LOCATION:Europe/Madrid
BEGIN:STANDARD
DTSTART:20251026T020000
TZOFFSETFROM:+0200
TZOFFSETTO:+0100
TZNAME:CET
END:STANDARD
END:VTIMEZONE
END:VCALENDAR