BEGIN:VCALENDAR
VERSION:2.0
PRODID:-//wp-events-plugin.com//7.2.3.1//EN
TZID:Europe/Madrid
X-WR-TIMEZONE:Europe/Madrid
BEGIN:VEVENT
UID:211@longrock.es
DTSTART;TZID=Europe/Madrid:20260417T235900
DTEND;TZID=Europe/Madrid:20260417T235900
DTSTAMP:20260407T174930Z
URL:https://www.longrock.es/sevilla/evento/aguafiestas-2/
SUMMARY:Aguafiestas
DESCRIPTION:\n\n.em.pixelbones a .button-link{ border-radius: 10px !importa
 nt\; padding:15px 20px !important\; background-color: #fe0000 !important\;
  border: 0px !important\; background-image: unset !important\;}.em.pixelbo
 nes a .button-link:hover{ background-color: #fff!important\; color: #000 !
 important\;}\n\n\n\n\nPrecio\n5€\n\n\naguafiestas\n\nVersiones de los gr
 andes éxitos de la música nacional e internacional desde los 80 hasta ah
 ora. \n\n*La hora de comienzo será aproximadamente a las 00:15 h.\n\n*No 
 está permitida la entrada a menores de edad. \n\n*La entrada se compra en
  taquilla e incluye una consumición de Alhambra Especial o refresco.\n \n
ATTACH;FMTTYPE=image/jpeg:https://www.longrock.es/sevilla/wp-content/uploa
 ds/2026/04/aguafiestas_17abril.jpg
LOCATION:LongRock Sevilla\, C/ Blanco White\, s/n\, Sevilla\, 41018\, Espa
 ña
X-APPLE-STRUCTURED-LOCATION;VALUE=URI;X-ADDRESS=C/ Blanco White\, s/n\, Sev
 illa\, 41018\, España;X-APPLE-RADIUS=100;X-TITLE=LongRock Sevilla:geo:0,0
END:VEVENT
BEGIN:VTIMEZONE
TZID:Europe/Madrid
X-LIC-LOCATION:Europe/Madrid
BEGIN:DAYLIGHT
DTSTART:20260329T030000
TZOFFSETFROM:+0100
TZOFFSETTO:+0200
TZNAME:CEST
END:DAYLIGHT
END:VTIMEZONE
END:VCALENDAR