BEGIN:VCALENDAR
VERSION:2.0
PRODID:-//wp-events-plugin.com//7.2.3.1//EN
TZID:Europe/Madrid
X-WR-TIMEZONE:Europe/Madrid
BEGIN:VEVENT
UID:16@longrock.es
DTSTART;TZID=Europe/Madrid:20251121T220000
DTEND;TZID=Europe/Madrid:20251121T220000
DTSTAMP:20251028T124456Z
URL:https://www.longrock.es/cordoba/evento/puro-indie/
SUMMARY:PURO INDIE
DESCRIPTION:\n\n\n.em.pixelbones a .button-link{ border-radius: 10px !impor
 tant\; padding:15px 20px !important\; background-color: #fe0000 !important
 \; border: 0px !important\; background-image: unset !important\;}.em.pixel
 bones a .button-link:hover{ background-color: #fff!important\; color: #000
  !important\;}\n\n\n\n\nEnlace a ticket\n\n\n\nPrecio\n12€ ANTICIPADA\n\
 n15€ TAQUILLA\n\n\nDescripción\nPuroIndie de nuevo en Córdoba\, el mej
 or tributo indie nacional . Los mejores éxitos recientes e himnos mítico
 s del panorama indie español. Dos horas de música en directo para ti\, s
 i te gustan los festivales \, este es tu concierto!!
ATTACH;FMTTYPE=image/jpeg:https://www.longrock.es/cordoba/wp-content/uploa
 ds/2025/10/1758369764906-e1761659081893.jpg
LOCATION:LongRock Córdoba\, C/Teniente Braulio Laportilla\, 6\, Córdoba\,
  España
X-APPLE-STRUCTURED-LOCATION;VALUE=URI;X-ADDRESS=C/Teniente Braulio Laportil
 la\, 6\, Córdoba\, España;X-APPLE-RADIUS=100;X-TITLE=LongRock Córdoba:g
 eo:0,0
END:VEVENT
BEGIN:VTIMEZONE
TZID:Europe/Madrid
X-LIC-LOCATION:Europe/Madrid
BEGIN:STANDARD
DTSTART:20251026T020000
TZOFFSETFROM:+0200
TZOFFSETTO:+0100
TZNAME:CET
END:STANDARD
END:VTIMEZONE
END:VCALENDAR