BEGIN:VCALENDAR
VERSION:2.0
PRODID:-//wp-events-plugin.com//7.2.3.1//EN
TZID:Europe/Madrid
X-WR-TIMEZONE:Europe/Madrid
BEGIN:VEVENT
UID:12@longrock.es
DTSTART;TZID=Europe/Madrid:20251114T210000
DTEND;TZID=Europe/Madrid:20251114T210000
DTSTAMP:20251028T123530Z
URL:https://www.longrock.es/cordoba/evento/pongamos-que-hablo-de-joaquin-h
 omenaje-a-joaquin-sabina/
SUMMARY:PONGAMOS QUE HABLO DE JOAQUÍN. Homenaje a Joaquín Sabina
DESCRIPTION:\n\n\n.em.pixelbones a .button-link{ border-radius: 10px !impor
 tant\; padding:15px 20px !important\; background-color: #fe0000 !important
 \; border: 0px !important\; background-image: unset !important\;}.em.pixel
 bones a .button-link:hover{ background-color: #fff!important\; color: #000
  !important\;}\n\n\n\n\nEnlace a ticket\n\n\n\nPrecio\n12€ ANTICIPADA\n\
 n15€ TAQUILLA\n\n\nDescripción\nPONGAMOS QUE HABLO de Joaquín. Un resp
 etuoso recorrido por todas las épocas del gran Joaquín Sabina que nos tr
 ansportará desde sus inicios\, con una voz más joven y transparente\, ha
 sta su última etapa en la cual la voz rota del devenir de los años toma 
 protagonismo. Estos cambios de registros sólo son posibles gracias al ext
 raordinario vocalista de la banda\, que de forma natural nos recuerda al m
 ejor Sabina de todos los tiempos. Esto Sumado a una fiel y cuidada interpr
 etación musical por parte del resto de la banda\, hacen de PONGAMOS QUE H
 ABLO de Joaquín el mejor homenaje al maestro Sabina.\n\nSin duda el GRAN
  HOMENAJE A SABINA que los amantes de su música no se pueden perder.
ATTACH;FMTTYPE=image/jpeg:https://www.longrock.es/cordoba/wp-content/uploa
 ds/2025/10/Captura-de-pantalla-2025-10-28-143452.jpg
LOCATION:LongRock Córdoba\, C/Teniente Braulio Laportilla\, 6\, Córdoba\,
  España
X-APPLE-STRUCTURED-LOCATION;VALUE=URI;X-ADDRESS=C/Teniente Braulio Laportil
 la\, 6\, Córdoba\, España;X-APPLE-RADIUS=100;X-TITLE=LongRock Córdoba:g
 eo:0,0
END:VEVENT
BEGIN:VTIMEZONE
TZID:Europe/Madrid
X-LIC-LOCATION:Europe/Madrid
BEGIN:STANDARD
DTSTART:20251026T020000
TZOFFSETFROM:+0200
TZOFFSETTO:+0100
TZNAME:CET
END:STANDARD
END:VTIMEZONE
END:VCALENDAR