BEGIN:VCALENDAR
VERSION:2.0
PRODID:-//wp-events-plugin.com//7.2.3.1//EN
TZID:Europe/Madrid
X-WR-TIMEZONE:Europe/Madrid
BEGIN:VEVENT
UID:17@longrock.es
DTSTART;TZID=Europe/Madrid:20251120T220000
DTEND;TZID=Europe/Madrid:20251120T220000
DTSTAMP:20260102T080628Z
URL:https://www.longrock.es/cordoba/evento/nauw-music/
SUMMARY:NAUW MUSIC
DESCRIPTION:\n\n\n.em.pixelbones a .button-link{ border-radius: 10px !impor
 tant\; padding:15px 20px !important\; background-color: #fe0000 !important
 \; border: 0px !important\; background-image: unset !important\;}.em.pixel
 bones a .button-link:hover{ background-color: #fff!important\; color: #000
  !important\;}\n\n\n\n\nEnlace a \n\nticket\n\n\n\nPrecio\n15€ con cerv
 eza/refresco\n\n18€ con dos cervezas/dos refrescos\n\n\nDescripción\nSu
 mérgete en una experiencia única con NAUW en la sala Long Rock\, una sal
 a perfecta para sentir cada canción de cerca. Formarás parte de una comu
 nidad que apuesta por el talento real\, el sonido auténtico\, la diversi
 ón y la profesionalización de la escena emergente.\n\nEl evento incluir
 á:\n\n 	Conciertos en directo de artistas emergentes con mucho talento\n 
 	2 Pizza Time para que no disfrutes con la tripa vacía\n 	Regalos\n 	DJ s
 ets con lo mejor del sonido actual\n 	¡Y algunas sorpresas más!\n
ATTACH;FMTTYPE=image/jpeg:https://www.longrock.es/cordoba/wp-content/uploa
 ds/2025/11/Captura-de-pantalla-2025-11-06-120730.jpg
LOCATION:LongRock Córdoba\, C/Teniente Braulio Laportilla\, 6\, Córdoba\,
  España
X-APPLE-STRUCTURED-LOCATION;VALUE=URI;X-ADDRESS=C/Teniente Braulio Laportil
 la\, 6\, Córdoba\, España;X-APPLE-RADIUS=100;X-TITLE=LongRock Córdoba:g
 eo:0,0
END:VEVENT
BEGIN:VTIMEZONE
TZID:Europe/Madrid
X-LIC-LOCATION:Europe/Madrid
BEGIN:STANDARD
DTSTART:20251026T020000
TZOFFSETFROM:+0200
TZOFFSETTO:+0100
TZNAME:CET
END:STANDARD
END:VTIMEZONE
END:VCALENDAR