BEGIN:VCALENDAR
VERSION:2.0
PRODID:-//wp-events-plugin.com//7.2.3.1//EN
TZID:Europe/Madrid
X-WR-TIMEZONE:Europe/Madrid
BEGIN:VEVENT
UID:4@longrock.es
DTSTART;TZID=Europe/Madrid:20251026T230000
DTEND;TZID=Europe/Madrid:20251026T235900
DTSTAMP:20250925T062240Z
URL:https://www.longrock.es/cordoba/evento/mister-plan/
SUMMARY:Mister Plan
DESCRIPTION:\n.em.pixelbones a .button-link{ border-radius: 10px !important
 \; padding:15px 20px !important\; background-color: #fe0000 !important\; b
 order: 0px !important\; background-image: unset !important\;}\n.em.pixelbo
 nes a .button-link:hover{ background-color: #fff!important\; color: #000 !
 important\;}\n\n\n\nEnlace a ticket\n\n
ATTACH;FMTTYPE=image/jpeg:https://www.longrock.es/cordoba/wp-content/uploa
 ds/2025/09/bodaz-9_1_190719-173089268244009.jpeg
LOCATION:LongRock Córdoba\, C/Teniente Braulio Laportilla\, 6\, Córdoba\,
  España
X-APPLE-STRUCTURED-LOCATION;VALUE=URI;X-ADDRESS=C/Teniente Braulio Laportil
 la\, 6\, Córdoba\, España;X-APPLE-RADIUS=100;X-TITLE=LongRock Córdoba:g
 eo:0,0
END:VEVENT
BEGIN:VTIMEZONE
TZID:Europe/Madrid
X-LIC-LOCATION:Europe/Madrid
BEGIN:STANDARD
DTSTART:20251026T020000
TZOFFSETFROM:+0200
TZOFFSETTO:+0100
TZNAME:CET
END:STANDARD
END:VTIMEZONE
END:VCALENDAR