BEGIN:VCALENDAR
VERSION:2.0
PRODID:-//wp-events-plugin.com//7.2.3.1//EN
TZID:Europe/Madrid
X-WR-TIMEZONE:Europe/Madrid
BEGIN:VEVENT
UID:74@longrock.es
DTSTART;TZID=Europe/Madrid:20260612T213000
DTEND;TZID=Europe/Madrid:20260612T213000
DTSTAMP:20260326T105652Z
URL:https://www.longrock.es/cordoba/evento/alis/
SUMMARY:ALIS
DESCRIPTION:\n\n\n.em.pixelbones a .button-link{ border-radius: 10px !impor
 tant\; padding:15px 20px !important\; background-color: #fe0000 !important
 \; border: 0px !important\; background-image: unset !important\;}.em.pixel
 bones a .button-link:hover{ background-color: #fff!important\; color: #000
  !important\;}\n\n\n\n\nEnlace a ticket\n\n\n\nPrecio\n15\,30 €\n\n\nDes
 cripción\nConcierto presentación del nuevo disco de Alis "Contradiccione
 s" un nuevo disco\, con canciones nuevas\, lleno de colaboraciones increí
 bles\n\ncomo las de Angeles Toledano\, Rafa Vals (Viva Suecia)\, Nat Simon
 s\, Lapido (091)\, Javier Ojeda (Danza Invisible) o Neus Ferri\,\n\nAlbum 
 numero 15 el cual celebra el 20 Aniversario del proyecto como Alis y que c
 onvertirá estos shows en los mas largos ofrecidos hasta el momento\,\n\np
 resentando este nuevo álbum y repasando toda la discografía al completo.
 \n\n¿Te lo vas a perder?
END:VEVENT
BEGIN:VTIMEZONE
TZID:Europe/Madrid
X-LIC-LOCATION:Europe/Madrid
BEGIN:DAYLIGHT
DTSTART:20260329T030000
TZOFFSETFROM:+0100
TZOFFSETTO:+0200
TZNAME:CEST
END:DAYLIGHT
END:VTIMEZONE
END:VCALENDAR